Workbook

Sheet 提出要領
A1: クラブ・サークル「団体結成届」の提出について
A3: 下記の要領で提出してください。
A5: 記
A7: １．対象団体 | C7: ・令和8年度新規に結成する団体
A10: ２．届出方法 | C10: ・エクセルファイルの全てのシートに必要事項を入力する
C11: ・顧問教員に事前に内容確認をしてもらった上で、UNIPAのweb申請から団体結成届提出を行いエクセルファイルを添付する。
A14: ３．提 出 先 | C14: https://unipa.mie-u.ac.jp/uprx/ UNIPAにログイン後、web申請→web申請→クラブ・サークル手続きの「団体結成届」から申請してください。 Web申請者のみ申請できるようになっています。
A16: ４．提出期限 | C16: 受付期間 令和８年１０月３１日（土）まで
A18: ５．注意事項 | C18: ①申請前に必ず顧問教員に確認してください。顧問教員の承認が されない場合、受理できません。 ※顧問教員に確認後、UNIPAから申請してください。
C19: ②学務部からの連絡先は、氏名・携帯電話番号を必ず記入すること。 （なければ一般電話番号で可）
C20: ③学務部に提出する必要はありませんが、 顧問教員及び、部員・保護者への緊急連絡網を作成し、全員に周知しておくこと。
C21: ④別様式の事故防止マニュアルも全団体必ず提出してください。
A22: ６．受理条件 | C22: ３名以上の会員がいることを受理条件とする。虚偽の申請をしないこと。 結成の目的及び活動内容が， 政治的及び宗教的活動ではないこと。 その他 公序良俗に反する行為を目的及び活動としていないこと
A24: ７．個人情報 の取扱 | C24: 団体結成届に記載された個人情報は、課外活動支援の目的以外には使用しません。 また、事前に本人の同意を得た場合を除いて、個人情報の第三者への提供をいたしません。
A25: 「クラブ・サークル顧問指針」は必ず顧問教員へ渡してください。なお、学外から招聘している監督（師範）・コーチがいるクラブは監督（師範）・コーチへも「クラブ・サークル顧問指針」を渡してください。
A27: クラブ・サークル代表者は「クラブ・サークル代表者指針」に基づき、必要な対応を 認識し、実施してください。

Sheet 結成届
A1: （学部共通細則第15条）
A2: 団 体 結 成 届
I4: 令和 | K4: 年 | M4: 月 | O4: 日
A6: 学 長 殿
F8: 学籍番号
M10: 学部 | O10: 年
A11: 学部 年
E12: 代表責任者 | F12: 役 職
F14: 氏 名
A16: 下記により団体を（ ・ ）団体として結成（ ・ ・ ） したいので、お届けします。
A18: 記
A20: １．団体の名称
A22: ２．目 的
A24: ３．組織（加入者範囲）
A26: ４．結成年月日 | I26: 年 | K26: 月 | M26: 日
A28: ５．会員(部員)数 | D28: ='会員名簿（役職）'!K7 -> 0 | E28: 名 | F28: 内訳 | G28: 男 | H28: ='会員名簿（役職）'!J5 -> 0 | I28: 名 | J28: 女 | K28: ='会員名簿（役職）'!J6 -> 0 | L28: 名 | M28: 学外者 | N28: ='会員名簿（役職）'!I7 -> 0 | O28: 名
N29: （自動計算）
A30: ６．学務部からの連絡先 | D30: 氏名
A31: (携帯がなければ一般電話)
D32: 携帯電話番号
A34: ７．顧問教員 | F34: 学部 | H34: （職名） | K34: 氏名
D36: メールアドレス
A38: ８．監 督(師範) | D38: 所属 | I38: 氏名
A40: ９．コ ー チ | D40: 所属 | I40: 氏名
A42: 添付書類 | C42: １．会員(役員・全員)名簿
C43: ２．ワークフロー入力者
C44: ３．今年度の行事参加予定等
C45: ４．会則(規約・定款)
C46: ５．クラブ紹介ＨＰ（新規・変更希望者）
C48: 注）添付する必要はありませんが、顧問教員及び部員・保護者等への緊急連絡網を作成し、全員に周知しておいてください。
A50: 備 考 | C50: 届出事項を変更又は解散したときは速やかに届け出てください。

Sheet 活動計画【New】
A1: 令和８年度活動計画
J2: 団体の名称 | K2: =IF(+結成届!$D$20<>"",+結成届!$D$20,"")
A3: １．週間活動計画
A4: 曜日 | B4: 授業期間 | K4: 長期休業期間（夏休み等）
B5: 活動時間 | I5: 活動場所 | K5: 活動時間 | R5: 活動場所
A6: 日 | C6: ： | E6: ～ | G6: ： | L6: ： | N6: ～ | P6: ：
C7: ： | E7: ～ | G7: ： | L7: ： | N7: ～ | P7: ：
A8: 月 | C8: ： | E8: ～ | G8: ： | L8: ： | N8: ～ | P8: ：
C9: ： | E9: ～ | G9: ： | L9: ： | N9: ～ | P9: ：
A10: 火 | C10: ： | E10: ～ | G10: ： | L10: ： | N10: ～ | P10: ：
C11: ： | E11: ～ | G11: ： | L11: ： | N11: ～ | P11: ：
A12: 水 | C12: ： | E12: ～ | G12: ： | L12: ： | N12: ～ | P12: ：
C13: ： | E13: ～ | G13: ： | L13: ： | N13: ～ | P13: ：
A14: 木 | C14: ： | E14: ～ | G14: ： | L14: ： | N14: ～ | P14: ：
C15: ： | E15: ～ | G15: ： | L15: ： | N15: ～ | P15: ：
A16: 金 | C16: ： | E16: ～ | G16: ： | L16: ： | N16: ～ | P16: ：
C17: ： | E17: ～ | G17: ： | L17: ： | N17: ～ | P17: ：
A18: 土 | C18: ： | E18: ～ | G18: ： | L18: ： | N18: ～ | P18: ：
C19: ： | E19: ～ | G19: ： | L19: ： | N19: ～ | P19: ：
A20: (記入例) | B20: 13 | C20: ： | D20: 00 | E20: ～ | F20: 17 | G20: ： | H20: 00 | J20: 第一体育館１階 | K20: 9 | L20: ： | M20: 00 | N20: ～ | O20: 17 | P20: ： | Q20: 00 | S20: 陸上競技場
C21: ： | E21: ～ | G21: ： | J21: 津市体育館 | L21: ： | N21: ～ | P21: ：
A22: ２．年間活動計画①（大会、コンクール等）
A23: 時期 | B23: 大会名 | K23: 開催場所（予定）
A24: （記入例） 8月 | B24: 東海○○大会 | K24: ○○県
A31: ３．年間活動計画②（合宿、演奏会、ボランティア活動等）
A32: 時期 | B32: 活動内容 | K32: 活動場所（予定）
A33: （記入例） 2月 | B33: 冬季合宿 | K33: ○○県
A40: ４．その他（上記で書ききれないような活動があれば記載してください）
A41: （記入例） 授業期間中の第二、第四土曜日は津市体育館で練習実施

Sheet 会員名簿（役職）
A1: 会員（役員）名簿
F2: 団体の名称 | H2: =IF(+結成届!$D$20<>"",+結成届!$D$20,"")
A4: 構成員数 | C4: 人文 | D4: 教育 | E4: 医 | F4: 工 | G4: 生物資源 | H4: 地域イノベ | I4: 学外 | J4: 計 | K4: 計（学外含む）
B5: 男 | C5: =COUNTIFS('会員名簿（学内）'!C5:C154,"人文学部",'会員名簿（学内）'!F5:F154,"男")+COUNTIFS('会員名簿（学内）'!C5:C154,"人文社会科学研究科",'会員名簿（学内）'!F5:F154,"男") -> 0 | D5: =COUNTIFS('会員名簿（学内）'!C5:C154,"教育学部",'会員名簿（学内）'!F5:F154,"男")+COUNTIFS('会員名簿（学内）'!C5:C154,"教育学研究科",'会員名簿（学内）'!F5:F154,"男") -> 0 | E5: =COUNTIFS('会員名簿（学内）'!C5:C154,"医学部",'会員名簿（学内）'!F5:F154,"男")+COUNTIFS('会員名簿（学内）'!C5:C154,"医学系研究科",'会員名簿（学内）'!F5:F154,"男") -> 0 | F5: =COUNTIFS('会員名簿（学内）'!C5:C154,"工学部",'会員名簿（学内）'!F5:F154,"男")+COUNTIFS('会員名簿（学内）'!C5:C154,"工学研究科",'会員名簿（学内）'!F5:F154,"男") -> 0 | G5: =COUNTIFS('会員名簿（学内）'!C5:C154,"生物資源学部",'会員名簿（学内）'!F5:F154,"男")+COUNTIFS('会員名簿（学内）'!C5:C154,"生物資源学研究科",'会員名簿（学内）'!F5:F154,"男") -> 0 | H5: =COUNTIFS('会員名簿（学内）'!C5:C154,"地域イノベーション学研究科",'会員名簿（学内）'!F5:F154,"男") -> 0 | I5: =COUNTIFS('会員名簿（学外）'!C5:C54,"<>",'会員名簿（学外）'!G5:G54,"男") -> 0 | J5: =SUM(C5:H5) -> 0 | K5: =SUM(C5:I5) -> 0
B6: 女 | C6: =COUNTIFS('会員名簿（学内）'!C5:C154,"人文学部",'会員名簿（学内）'!F5:F154,"女")+COUNTIFS('会員名簿（学内）'!C5:C154,"人文社会科学研究科",'会員名簿（学内）'!F5:F154,"女") -> 0 | D6: =COUNTIFS('会員名簿（学内）'!C5:C154,"教育学部",'会員名簿（学内）'!F5:F154,"女")+COUNTIFS('会員名簿（学内）'!C5:C154,"教育学研究科",'会員名簿（学内）'!F5:F154,"女") -> 0 | E6: =COUNTIFS('会員名簿（学内）'!C5:C154,"医学部",'会員名簿（学内）'!F5:F154,"女")+COUNTIFS('会員名簿（学内）'!C5:C154,"医学系研究科",'会員名簿（学内）'!F5:F154,"女") -> 0 | F6: =COUNTIFS('会員名簿（学内）'!C5:C154,"工学部",'会員名簿（学内）'!F5:F154,"女")+COUNTIFS('会員名簿（学内）'!C5:C154,"工学研究科",'会員名簿（学内）'!F5:F154,"女") -> 0 | G6: =COUNTIFS('会員名簿（学内）'!C5:C154,"生物資源学部",'会員名簿（学内）'!F5:F154,"女")+COUNTIFS('会員名簿（学内）'!C5:C154,"生物資源学研究科",'会員名簿（学内）'!F5:F154,"女") -> 0 | H6: =COUNTIFS('会員名簿（学内）'!C5:C154,"地域イノベーション学研究科",'会員名簿（学内）'!F5:F154,"女") -> 0 | I6: =COUNTIFS('会員名簿（学外）'!C5:C54,"<>",'会員名簿（学外）'!G5:G54,"女") -> 0 | J6: =SUM(C6:H6) -> 0 | K6: =SUM(C6:I6) -> 0
B7: 計 | C7: =SUM(C5:C6) -> 0 | D7: =SUM(D5:D6) -> 0 | E7: =SUM(E5:E6) -> 0 | F7: =SUM(F5:F6) -> 0 | G7: =SUM(G5:G6) -> 0 | H7: =SUM(H5:H6) -> 0 | I7: =SUM(I5:I6) -> 0 | J7: =SUM(C7:H7) -> 0 | K7: =SUM(C7:I7) -> 0
A10: 役 員 名 | B10: 役職名 | D10: 氏 名 | F10: 学 部 | H10: 学年 | I10: 学籍番号 | J10: 携帯番号（TEL）
A20: ※本名簿に記載の役員をmoodleの「クラブ・サークル連絡用＆情報共有コース」へ登録いたします。
A21: （活動計画書の提出権限は代表者のみに付与）

Sheet web申請担当者
A1: web申請担当者
F2: 団体の名称 | H2: =IF(+結成届!$D$20<>"",+結成届!$D$20,"")
B4: 1 | C4: 遠征・学外合宿届
B5: 2 | C5: 構内一時入構許可書
B6: 3 | C6: 団体結成届
B7: UNIPAで上記の申請をするときにweb申請の権限が必要になります。
A9: 入力担当者 | B9: 役職名 | D9: 氏 名 | F9: 学 部 | H9: 学年 | I9: 学籍番号 | J9: 携帯番号（TEL）
B12: ※基本は1名登録です。2名以上必要な場合は前もって学生支援チーム①番窓口課外担当へ
B13: 相談してください。

Sheet 会員名簿（学内）
A1: 名 簿 （ 学 内 ）
D2: 団体の名称 | F2: =IF(+結成届!$D$20<>"",+結成届!$D$20,"")
A3: 名簿に修正があった場合は、速やかに再提出してください。
A5: 番号 | B5: 団体名 | C5: 学部・研究科 | D5: 学科・講座等 | E5: 学年 | F5: 性別 | G5: 学籍番号 | H5: 氏 名 | I5: 備考（役職） | J5: 退部 | K5: 退部日付
A6: 1 | B6: =$F$2 | L6: 人文学部 | M6: 男 | N6: ✓
A7: 2 | B7: =$F$2 | L7: 教育学部 | M7: 女
A8: 3 | B8: =$F$2 | L8: 医学部
A9: 4 | B9: =$F$2 | L9: 工学部
A10: 5 | B10: =$F$2 | L10: 生物資源学部
A11: 6 | B11: =$F$2 | L11: 人文社会科学研究科
A12: 7 | B12: =$F$2 | L12: 教育学研究科
A13: 8 | B13: =$F$2 | L13: 医学系研究科
A14: 9 | B14: =$F$2 | L14: 工学研究科
A15: 10 | B15: =$F$2 | L15: 生物資源学研究科
A16: 11 | B16: =$F$2 | L16: 地域イノベーション学研究科
A17: 12 | B17: =$F$2
A18: 13 | B18: =$F$2
A19: 14 | B19: =$F$2
A20: 15 | B20: =$F$2
A21: 16 | B21: =$F$2
A22: 17 | B22: =$F$2
A23: 18 | B23: =$F$2
A24: 19 | B24: =$F$2
A25: 20 | B25: =$F$2
A26: 21 | B26: =$F$2
A27: 22 | B27: =$F$2
A28: 23 | B28: =$F$2
... A105: 100 | B105: =$F$2

Sheet 会員名簿（学外）
A1: 名 簿 （ 学 外 ）
E2: 団体の名称 | G2: =IF(+結成届!$D$20<>"",+結成届!$D$20,"")
A3: 名簿に修正があった場合は、速やかに再提出してください。
A5: 番号 | B5: 団体名 | C5: 所属大学 | D5: 学部・研究科 | E5: 学科・講座等 | F5: 学年 | G5: 性別 | H5: 学籍番号 | I5: 氏 名 | J5: 備考（役職） | K5: 退部 | L5: 退部日付
A6: 1 | B6: =$G$2 | O6: 男
A7: 2 | B7: =$G$2 | O7: 女
A8: 3 | B8: =$G$2
A9: 4 | B9: =$G$2
A10: 5 | B10: =$G$2
A11: 6 | B11: =$G$2
A12: 7 | B12: =$G$2
A13: 8 | B13: =$G$2
A14: 9 | B14: =$G$2
A15: 10 | B15: =$G$2
A16: 11 | B16: =$G$2
A17: 12 | B17: =$G$2
A18: 13 | B18: =$G$2
A19: 14 | B19: =$G$2
... A25: 20 | B25: =$G$2

Sheet 会則
A1: 会 則（規約・定款）等
A3: １．団体の名称 | B3: =IF(結成届!D20="","",結成届!D20)
A5: ２．目 的 | B5: =IF(結成届!D22="","",結成届!D22)
A8: ３．構成（入部・入会資格）
A9: ※三重大学学部生・大学院生・非正規生（注）を対象としますが、入部・入会資格は各団体が 定める範囲とします。 なお、他大学学生等が共に活動している場合は、別途、名簿を添付してください。
A12: ４．役員（幹部）構成
A14: ５．財政（部費又は会費）
A16: ６．活動場所・日時
A18: ７．活動内容（現在所属しているリーグ・部等も記入すること）
A23: ８．前年度の活動実績（継続団体のみ記入）
A26: （注）非正規生（科目等履修生を除く。）については、５カ月以上三重大学に在籍する者を対象とします。 非正規生の区分で不明な場合は、課外活動担当へ問い合わせてください。

Sheet クラブ紹介HP（新規・変更）
B2: =IF(+結成届!$D$20<>"",+結成届!$D$20,"")
B5: 写真掲載箇所① ※こちらには貼り付けず、データで提出すること(複数あれば①〜③の写真の順番も指定してください） | H5: ここに紹介文を記入（２００文字以内）
B14: ◆活動日時 | I14: 写真掲載箇所② ※こちらには貼り付けず、 データで提出すること！
B16: 曜日 ○○:〇〇～〇〇:〇〇 不定期（月２回開催）
B20: ◆活動場所
I21: 写真掲載箇所③ ※こちらには貼り付けず、 データで提出すること！
B22: 体育館
B25: 部員数
B27: ='会員名簿（役職）'!K7 -> 0 | C27: 名 | D27: （男子： | E27: ='会員名簿（役職）'!J5 -> 0 | F27: 名、女子 | G27: ='会員名簿（役職）'!J6 -> 0 | H27: 名 | J27: 学外者 | K27: ='会員名簿（役職）'!I7 -> 0 | L27: 名 | M27: （自動計算）
B30: ◆活動内容 | I30: ◆学内施設の使用の有無
I31: 有or無
B32: ここに活動内容を記入（２００文字以内）
I34: ◆部室・倉庫の有無
I35: 有or無
B38: ◆年間活動計画 | I38: ◆部室・倉庫の場所（有の場合のみ回答してください）
I39: 陸上競技場横など
B40: ４月
B41: ５月
B42: ６月
B43: ７月
B44: ８月
B45: ９月
B46: １０月
B47: １１月
B48: １２月
B49: １月
B50: ２月
B51: ３月
... B58: メールアドレス：
B59: YouTube動画ＵＲＬ： | I59: ※個別動画のURLを指定してください！
B61: 課外活動団体が運営するWebサイト等へリンクします。
B62: リンク先のサイトの内容及び仕様にかかわる一切の責任を負いませんので、ご了承ください。

Sheet 会員名簿（記入例）
D1: 【 記 入 例 】
A2: 名 簿 （ 学 内 ）
D3: 団体の名称 | F3: =IF(+[1]結成届!$D$20<>"",+[1]結成届!$D$20,"") -> フェンシング部
A4: 名簿に修正があった場合は、速やかに再提出してください。
A5: ※新規加入者は赤字で追加して、退部者は右側部分を加筆してください（退部に✓・退部日付を記入） | J5: （退部者は学部・研究科は空白にしておく）
A6: 番号 | B6: 団体名 | C6: 学部・研究科 | D6: 学科・講座等 | E6: 学年 | F6: 性別 | G6: 学籍番号 | H6: 氏 名 | I6: 備考（役職） | J6: 退部 | K6: 退部日付
A7: 1 | B7: =IF(+[2]結成届!$D$20<>"",+[2]結成届!$D$20,"") | C7: 工学部 | D7: 機械工学 | E7: 3 | F7: 男 | G7: 123456 | H7: 三重 太郎 | I7: 男子主将
A8: 2 | B8: =IF(+[2]結成届!$D$20<>"",+[2]結成届!$D$20,"") | C8: 人文学部 | D8: 法律経済 | E8: 3 | F8: 女 | G8: 111111 | H8: 三重 花子 | I8: 女子主将
A9: 3 | B9: =IF(+[2]結成届!$D$20<>"",+[2]結成届!$D$20,"") | C9: 教育学部 | D9: 保健体育 | E9: 3 | F9: 男 | G9: 222222 | H9: 三重 二郎 | I9: 主務
A10: 4 | B10: =IF(+[2]結成届!$D$20<>"",+[2]結成届!$D$20,"") | C10: 医学部 | D10: 看護 | E10: 1 | F10: 女 | G10: 333333 | H10: 二重 みえこ | I10: マネージャー
A11: 5 | B11: =IF(+[2]結成届!$D$20<>"",+[2]結成届!$D$20,"") | C11: 生物資源学部 | D11: 資源環境 | E11: 2 | F11: 男 | G11: 444444 | H11: 三重 大
A12: 6 | B12: =IF(+[2]結成届!$D$20<>"",+[2]結成届!$D$20,"") | C12: 生物資源学部 | D12: 共生環境 | E12: 2 | F12: 女 | G12: 555555 | H12: フェン シング
A13: 7 | B13: =IF(+[2]結成届!$D$20<>"",+[2]結成届!$D$20,"") | D13: 資源環境 | E13: 3 | F13: 男 | G13: 666666 | H13: 三重 学 | J13: ✓ | K13: 2024.3.31
A14: 8 | B14: =IF(+[2]結成届!$D$20<>"",+[2]結成届!$D$20,"")
A15: 9 | B15: =IF(+[2]結成届!$D$20<>"",+[2]結成届!$D$20,"")
A16: 10 | B16: =IF(+[2]結成届!$D$20<>"",+[2]結成届!$D$20,"")
A17: 11 | B17: =IF(+[2]結成届!$D$20<>"",+[2]結成届!$D$20,"")
A18: 12 | B18: =IF(+[2]結成届!$D$20<>"",+[2]結成届!$D$20,"")
A19: 13 | B19: =IF(+[2]結成届!$D$20<>"",+[2]結成届!$D$20,"")
A20: 14 | B20: =IF(+[2]結成届!$D$20<>"",+[2]結成届!$D$20,"")
A21: 15 | B21: =IF(+[2]結成届!$D$20<>"",+[2]結成届!$D$20,"")
A22: 16 | B22: =IF(+[2]結成届!$D$20<>"",+[2]結成届!$D$20,"")
A23: 17 | B23: =IF(+[2]結成届!$D$20<>"",+[2]結成届!$D$20,"")
A24: 18 | B24: =IF(+[2]結成届!$D$20<>"",+[2]結成届!$D$20,"")
A25: 19 | B25: =IF(+[2]結成届!$D$20<>"",+[2]結成届!$D$20,"")
... A106: 100 | B106: =IF(+[2]結成届!$D$20<>"",+[2]結成届!$D$20,"")

Sheet まとめシート
A1: № | B1: 団体の名称 | C1: 男 | D1: 女 | E1: 学外者 | F1: 計 | G1: 顧問所属 | H1: 顧問氏名 | I1: 顧問教員アドレス | J1: 役職名 | K1: 代表者名 | L1: 所属学部等 | M1: 学年 | N1: 学籍番号 | O1: 学籍番号アドレス | P1: 電話番号 | Q1: 学内施設使用の有無 | R1: 部室・倉庫の有無※ | S1: 主な活動場所 | T1: 部室の場所
B2: =結成届!D20 -> 0 | C2: =結成届!H28 -> 0 | D2: =結成届!K28 -> 0 | E2: =結成届!N28 -> 0 | F2: =SUM(C2:E2) -> 0 | G2: =結成届!D34 -> 0 | H2: =結成届!L34 -> 0 | I2: =結成届!G36 -> 0 | J2: =結成届!J12 -> 0 | K2: =結成届!J14 -> 0 | L2: =結成届!J10 -> 0 | M2: =結成届!N10 -> 0 | N2: =結成届!J8 -> 0 | O2: =まとめシート!N2&"@m.mie-@u.ac.jp" -> 0@m.mie-@u.ac.jp | P2: =結成届!E32 -> 0 | Q2: ='クラブ紹介HP（新規・変更）'!I31 -> 有or無 | R2: ='クラブ紹介HP（新規・変更）'!I35 -> 有or無 | S2: ='クラブ紹介HP（新規・変更）'!B22 -> 体育館 | T2: ='クラブ紹介HP（新規・変更）'!I39 -> 陸上競技場横など
A3: このシートは修正しないでください。
